BEGIN:VCALENDAR
VERSION:2.0
METHOD:PUBLISH
PRODID:-//ddaysoftware.com//NONSGML DDay.iCal 1.0//EN
BEGIN:VEVENT
DESCRIPTION:
DTEND:20210610T113000
DTSTAMP:20260424T094837
DTSTART:20210610T100000
SEQUENCE:0
SUMMARY:Mediation Apprenticeships\, Mentorships\, and Gaining That Cov
UID:283a99c1-fb32-4162-9530-2195afc0f9ab
URL:https://services.nycbar.org/EventDetail?EventKey=ADR032521
END:VEVENT
END:VCALENDAR
