BEGIN:VCALENDAR
VERSION:2.0
METHOD:PUBLISH
PRODID:-//ddaysoftware.com//NONSGML DDay.iCal 1.0//EN
BEGIN:VEVENT
DESCRIPTION:
DTEND:20241016T200000
DTSTAMP:20260419T154013
DTSTART:20241016T180000
SEQUENCE:0
SUMMARY:Exploring Restorative Processes As a Means of Building Commu
UID:4ab1c530-fde6-415e-b0d9-8e89d1e549c1
URL:https://services.nycbar.org/EventDetail?EventKey=ADR101624
END:VEVENT
END:VCALENDAR
