BEGIN:VCALENDAR
VERSION:2.0
METHOD:PUBLISH
PRODID:-//ddaysoftware.com//NONSGML DDay.iCal 1.0//EN
BEGIN:VEVENT
DESCRIPTION:
DTEND:20210707T200000
DTSTAMP:20260423T071039
DTSTART:20210707T180000
SEQUENCE:0
SUMMARY:Cameroon: Internal Crisis and International Impact Case of T
UID:3835444e-0b1b-4a6d-8c04-46ab0066341d
URL:https://services.nycbar.org/EventDetail?EventKey=AFR070721
END:VEVENT
END:VCALENDAR
