BEGIN:VCALENDAR
VERSION:2.0
METHOD:PUBLISH
PRODID:-//ddaysoftware.com//NONSGML DDay.iCal 1.0//EN
BEGIN:VEVENT
DESCRIPTION:
DTEND:20191114T203000
DTSTAMP:20260422T220333
DTSTART:20191114T183000
LOCATION:New York City Bar Association42 West 44th StNew York\, NY10036Unit
 ed States
SEQUENCE:0
SUMMARY:Climate Change and the Voiceless
UID:f3cfad35-3171-43a9-bb70-b814399f0d65
URL:https://services.nycbar.org/EventDetail?EventKey=ANI111419
END:VEVENT
END:VCALENDAR
