BEGIN:VCALENDAR
VERSION:2.0
METHOD:PUBLISH
PRODID:-//ddaysoftware.com//NONSGML DDay.iCal 1.0//EN
BEGIN:VEVENT
DTEND:20161201T203000
DTSTAMP:20260424T033803
DTSTART:20161201T181500
LOCATION:New York City Bar42 West 44th StNew York\, NY10036
SEQUENCE:0
SUMMARY:The Champions: An Uplifting Documentary Film About Pit Bulls
UID:412a6638-6518-43da-8e0e-225e561917bc
URL:https://services.nycbar.org/EventDetail?EventKey=ANIM120116
END:VEVENT
END:VCALENDAR
