BEGIN:VCALENDAR
VERSION:2.0
METHOD:PUBLISH
PRODID:-//ddaysoftware.com//NONSGML DDay.iCal 1.0//EN
BEGIN:VEVENT
DESCRIPTION:
DTEND:20220411T193000
DTSTAMP:20260421T103726
DTSTART:20211018T173000
LOCATION:42 West 44th StreetNew York\, NY10036United States
SEQUENCE:0
SUMMARY:The Leslie H. Arps Lecture Given By Hon. John Gleeson "Racia
UID:dcc831f6-7e7a-49fa-b1d4-834ac02adcbe
URL:https://services.nycbar.org/EventDetail?EventKey=ARPS041122
END:VEVENT
END:VCALENDAR
