BEGIN:VCALENDAR
VERSION:2.0
METHOD:PUBLISH
PRODID:-//ddaysoftware.com//NONSGML DDay.iCal 1.0//EN
BEGIN:VEVENT
DESCRIPTION:
DTEND:20221202T133000
DTSTAMP:20260423T175517
DTSTART:20221109T120000
LOCATION:New York City Bar42 West 44th StNew York\, NY10036
SEQUENCE:0
SUMMARY:The Intersection of Bankruptcy and Arbitration in Domestic
UID:4c44cfbe-b7a3-4532-a699-639cd0e90c3c
URL:https://services.nycbar.org/EventDetail?EventKey=BAN110922
END:VEVENT
END:VCALENDAR
