BEGIN:VCALENDAR
VERSION:2.0
METHOD:PUBLISH
PRODID:-//ddaysoftware.com//NONSGML DDay.iCal 1.0//EN
BEGIN:VEVENT
DESCRIPTION:
DTEND:20240124T200000
DTSTAMP:20260419T175321
DTSTART:20231114T180000
LOCATION:42 West 44th StreetNew York\, NY10036
SEQUENCE:0
SUMMARY:Bar@theBar: In-Person
UID:4fc289ff-7d39-4fa6-927c-1e2c9b3b0815
URL:https://services.nycbar.org/EventDetail?EventKey=Bar010924
END:VEVENT
END:VCALENDAR
