BEGIN:VCALENDAR
VERSION:2.0
METHOD:PUBLISH
PRODID:-//ddaysoftware.com//NONSGML DDay.iCal 1.0//EN
BEGIN:VEVENT
DESCRIPTION:
DTEND:20220413T140000
DTSTAMP:20260421T103726
DTSTART:20220413T120000
SEQUENCE:0
SUMMARY:Nontraditional JD Career Paths: Exploring Non-Legal Roles Wi
UID:a1015268-7afa-4e4a-a73d-6e9255286490
URL:https://services.nycbar.org/EventDetail?EventKey=CAM041322
END:VEVENT
END:VCALENDAR
