BEGIN:VCALENDAR
VERSION:2.0
METHOD:PUBLISH
PRODID:-//ddaysoftware.com//NONSGML DDay.iCal 1.0//EN
BEGIN:VEVENT
DESCRIPTION:
DTEND:20190910T200000
DTSTAMP:20260424T070230
DTSTART:20190910T180000
LOCATION:New York City Bar Association42 West 44th StNew York\, NY10036Unit
 ed States
SEQUENCE:0
SUMMARY:Ethically Improve Your Networking Skills
UID:433ed73f-3251-4f84-9948-675d903dbe2f
URL:https://services.nycbar.org/EventDetail?EventKey=CAM091019
END:VEVENT
END:VCALENDAR
