BEGIN:VCALENDAR
VERSION:2.0
METHOD:PUBLISH
PRODID:-//ddaysoftware.com//NONSGML DDay.iCal 1.0//EN
BEGIN:VEVENT
DTEND:20161027T210000
DTSTAMP:20260420T052030
DTSTART:20161027T173000
LOCATION:42 West 44th StreetNew York\, NY10036
SEQUENCE:0
SUMMARY:International Law Weekend 2016 -  Kick-Off
UID:f7dd37fa-7634-43b4-98b2-85e742c8b13a
URL:https://services.nycbar.org/EventDetail?EventKey=CB102716
END:VEVENT
END:VCALENDAR
