BEGIN:VCALENDAR
VERSION:2.0
METHOD:PUBLISH
PRODID:-//ddaysoftware.com//NONSGML DDay.iCal 1.0//EN
BEGIN:VEVENT
DESCRIPTION:
DTEND:20231109T203000
DTSTAMP:20260420T053707
DTSTART:20231109T190500
LOCATION:New York City Bar Association42 West 44th StreetNew York\, NY10036
SEQUENCE:0
SUMMARY:New York City Bar Chorus 30th Anniversary Concert
UID:d113c156-24ce-49ea-8bac-18cb413de398
URL:https://services.nycbar.org/EventDetail?EventKey=CHOR110923
END:VEVENT
END:VCALENDAR
