BEGIN:VCALENDAR
VERSION:2.0
METHOD:PUBLISH
PRODID:-//ddaysoftware.com//NONSGML DDay.iCal 1.0//EN
BEGIN:VEVENT
DESCRIPTION:
DTEND:20231117T203000
DTSTAMP:20260420T071807
DTSTART:20231117T190500
LOCATION:New York City Bar Association42 West 44th StreetNew York\, NY10036
SEQUENCE:0
SUMMARY:New York City Bar Chorus 30th Anniversary Concert
UID:9fbf79cb-6de7-4627-8d16-64953689f560
URL:https://services.nycbar.org/EventDetail?EventKey=CHOR111723
END:VEVENT
END:VCALENDAR
