BEGIN:VCALENDAR
VERSION:2.0
METHOD:PUBLISH
PRODID:-//ddaysoftware.com//NONSGML DDay.iCal 1.0//EN
BEGIN:VEVENT
DESCRIPTION:
DTEND:20200506T200000
DTSTAMP:20260423T164611
DTSTART:20200506T183000
LOCATION:42 West 44th StreetNew York\, NY10036United States
SEQUENCE:0
SUMMARY:Navigating the Intersection of Mental Health & Justice in Th
UID:7cd67c7b-8a2e-4765-b59d-0ab2f5d45b76
URL:https://services.nycbar.org/EventDetail?EventKey=CJO050620
END:VEVENT
END:VCALENDAR
