BEGIN:VCALENDAR
VERSION:2.0
METHOD:PUBLISH
PRODID:-//ddaysoftware.com//NONSGML DDay.iCal 1.0//EN
BEGIN:VEVENT
DESCRIPTION:
DTEND:20200922T200000
DTSTAMP:20260424T224534
DTSTART:20200922T190000
SEQUENCE:0
SUMMARY:Does the Constitution Allow Dual Protection Under Design Pat
UID:74de366a-7401-490d-9cc1-ab66e662eb6e
URL:https://services.nycbar.org/EventDetail?EventKey=CMTE092220
END:VEVENT
END:VCALENDAR
