BEGIN:VCALENDAR
VERSION:2.0
METHOD:PUBLISH
PRODID:-//ddaysoftware.com//NONSGML DDay.iCal 1.0//EN
BEGIN:VEVENT
DESCRIPTION:
DTEND:20210902T200000
DTSTAMP:20260422T201815
DTSTART:20210902T180000
SEQUENCE:0
SUMMARY:Careers in Compliance for Minority Law Students
UID:c8d1207d-9571-4afd-9ec2-ccc9c47e3924
URL:https://services.nycbar.org/EventDetail?EventKey=COM090221
END:VEVENT
END:VCALENDAR
