BEGIN:VCALENDAR
VERSION:2.0
METHOD:PUBLISH
PRODID:-//ddaysoftware.com//NONSGML DDay.iCal 1.0//EN
BEGIN:VEVENT
DTEND:20170314T200000
DTSTAMP:20260423T113307
DTSTART:20170314T180000
LOCATION:Moot Court\, New Building\, John Jay College524 West 59th StreetNe
 w York\, NY10019
SEQUENCE:0
SUMMARY:Rescheduled: State Constitutional Convention: Prospects?
UID:fdc5b90a-a73d-4659-b7bb-4c07a5655694
URL:https://services.nycbar.org/EventDetail?EventKey=CON031417
END:VEVENT
END:VCALENDAR
