BEGIN:VCALENDAR
VERSION:2.0
METHOD:PUBLISH
PRODID:-//ddaysoftware.com//NONSGML DDay.iCal 1.0//EN
BEGIN:VEVENT
DTEND:20170315T203000
DTSTAMP:20260422T023307
DTSTART:20170315T180000
LOCATION:42 West 44th StreetNew York\, NY10036
SEQUENCE:0
SUMMARY:Yes or No in November? Discussing a Constitutional
UID:5d841524-cec6-4db1-86a3-d6bea8eb4259
URL:https://services.nycbar.org/EventDetail?EventKey=CON031517
END:VEVENT
END:VCALENDAR
