BEGIN:VCALENDAR
VERSION:2.0
METHOD:PUBLISH
PRODID:-//ddaysoftware.com//NONSGML DDay.iCal 1.0//EN
BEGIN:VEVENT
DTEND:20170619T113000
DTSTAMP:20260423T050923
DTSTART:20170619T083000
LOCATION:42 West 44th StreetNew York\, NY10036
SEQUENCE:0
SUMMARY:2017 Diversity & Inclusion Conference
UID:b6f4b115-25a3-4401-8997-575b4aab3507
URL:https://services.nycbar.org/EventDetail?EventKey=DIV061917
END:VEVENT
END:VCALENDAR
