BEGIN:VCALENDAR
VERSION:2.0
METHOD:PUBLISH
PRODID:-//ddaysoftware.com//NONSGML DDay.iCal 1.0//EN
BEGIN:VEVENT
DESCRIPTION:
DTEND:20220224T200000
DTSTAMP:20260422T133815
DTSTART:20220224T180000
SEQUENCE:0
SUMMARY:Critical Race Theory: Finding Hope in the Midst of Misinform
UID:ff2cc352-014d-4841-9bb2-c68a7111d74c
URL:https://services.nycbar.org/EventDetail?EventKey=EDU022422
END:VEVENT
END:VCALENDAR
