BEGIN:VCALENDAR
VERSION:2.0
METHOD:PUBLISH
PRODID:-//ddaysoftware.com//NONSGML DDay.iCal 1.0//EN
BEGIN:VEVENT
DESCRIPTION:
DTEND:20240110T200000
DTSTAMP:20260419T174919
DTSTART:20240110T180000
LOCATION:New York City Bar Association42 West 44th StreetNew York\, NY10036
SEQUENCE:0
SUMMARY:Twelfth Night Show: The Fast Track to Fame of Chief Judge La
UID:01d5de6d-ba0f-4696-a565-0831380b762b
URL:https://services.nycbar.org/EventDetail?EventKey=ENT011024
END:VEVENT
END:VCALENDAR
