BEGIN:VCALENDAR
VERSION:2.0
METHOD:PUBLISH
PRODID:-//ddaysoftware.com//NONSGML DDay.iCal 1.0//EN
BEGIN:VEVENT
DESCRIPTION:
DTEND:20210223T100000
DTSTAMP:20260422T184543
DTSTART:20210223T083000
LOCATION:42 West 44th StreetNew York\, NY10036United States
SEQUENCE:0
SUMMARY:New York Environmental Law Year in Review 2020
UID:c41f7f8a-9941-4538-bc1a-6ac6d8ef0b17
URL:https://services.nycbar.org/EventDetail?EventKey=ENV022321
END:VEVENT
END:VCALENDAR
