BEGIN:VCALENDAR
VERSION:2.0
METHOD:PUBLISH
PRODID:-//ddaysoftware.com//NONSGML DDay.iCal 1.0//EN
BEGIN:VEVENT
DESCRIPTION:
DTEND:20210422T130000
DTSTAMP:20260422T184543
DTSTART:20210422T090000
SEQUENCE:0
SUMMARY:2nd Annual Earth Day Climate Change Symposium
UID:ddacf537-282f-4424-989b-fd070ba6249e
URL:https://services.nycbar.org/EventDetail?EventKey=ENV042221
END:VEVENT
END:VCALENDAR
