BEGIN:VCALENDAR
VERSION:2.0
METHOD:PUBLISH
PRODID:-//ddaysoftware.com//NONSGML DDay.iCal 1.0//EN
BEGIN:VEVENT
DESCRIPTION:
DTEND:20230918T200000
DTSTAMP:20260421T185935
DTSTART:20230918T173000
LOCATION:New York City Bar Association42 West 44th StreetNew York\, NY10036
SEQUENCE:0
SUMMARY:The Role of Lawyers and Bar Associations in Combating Clima
UID:b8bfed78-0d9f-4b76-8c54-3c9e63d643d2
URL:https://services.nycbar.org/EventDetail?EventKey=ENV091823
END:VEVENT
END:VCALENDAR
