BEGIN:VCALENDAR
VERSION:2.0
METHOD:PUBLISH
PRODID:-//ddaysoftware.com//NONSGML DDay.iCal 1.0//EN
BEGIN:VEVENT
DESCRIPTION:
DTEND:20220502T123000
DTSTAMP:20260420T221945
DTSTART:20220502T110000
SEQUENCE:0
SUMMARY:A Comparative View of Appraisal Rights
UID:d7261395-4090-4ee3-9a38-b61b22b47b2e
URL:https://services.nycbar.org/EventDetail?EventKey=FCL050222
END:VEVENT
END:VCALENDAR
