BEGIN:VCALENDAR
VERSION:2.0
METHOD:PUBLISH
PRODID:-//ddaysoftware.com//NONSGML DDay.iCal 1.0//EN
BEGIN:VEVENT
DESCRIPTION:
DTEND:20210715T200000
DTSTAMP:20260423T075249
DTSTART:20210715T183000
SEQUENCE:0
SUMMARY:Fighting Corruption in the Judiciary:
UID:70020ffb-9878-49f4-91ff-07098bd4996c
URL:https://services.nycbar.org/EventDetail?EventKey=IAA071521
END:VEVENT
END:VCALENDAR
