BEGIN:VCALENDAR
VERSION:2.0
METHOD:PUBLISH
PRODID:-//ddaysoftware.com//NONSGML DDay.iCal 1.0//EN
BEGIN:VEVENT
DESCRIPTION:
DTEND:20201202T203000
DTSTAMP:20260422T070108
DTSTART:20201202T183000
LOCATION:42 West 44th StreetNew York\, NY10036United States
SEQUENCE:0
SUMMARY:The Challenges of Fighting Corruption in the Americas: A Dia
UID:36ba9110-4fe8-4519-880a-e6b7248a240a
URL:https://services.nycbar.org/EventDetail?EventKey=IAA120220
END:VEVENT
END:VCALENDAR
