BEGIN:VCALENDAR
VERSION:2.0
METHOD:PUBLISH
PRODID:-//ddaysoftware.com//NONSGML DDay.iCal 1.0//EN
BEGIN:VEVENT
DESCRIPTION:
DTEND:20230927T193000
DTSTAMP:20260420T133415
DTSTART:20230927T180000
LOCATION:New York City Bar Association42 West 44th StreetNew York\, NY10036
SEQUENCE:0
SUMMARY:The Nearshoring of Energy Disputes and the Energy Transition
UID:d7106c45-f64a-4277-b748-5a183e28b6ad
URL:https://services.nycbar.org/EventDetail?EventKey=IAAC092723
END:VEVENT
END:VCALENDAR
