BEGIN:VCALENDAR
VERSION:2.0
METHOD:PUBLISH
PRODID:-//ddaysoftware.com//NONSGML DDay.iCal 1.0//EN
BEGIN:VEVENT
DESCRIPTION:
DTEND:20250122T143000
DTSTAMP:20260423T042848
DTSTART:20250122T130000
SEQUENCE:0
SUMMARY:Day of the Endangered Lawyer: Belarus
UID:588c2233-f38f-4760-bac0-8f04cd559535
URL:https://services.nycbar.org/EventDetail?EventKey=ILJ012225
END:VEVENT
END:VCALENDAR
