BEGIN:VCALENDAR
VERSION:2.0
METHOD:PUBLISH
PRODID:-//ddaysoftware.com//NONSGML DDay.iCal 1.0//EN
BEGIN:VEVENT
DESCRIPTION:
DTEND:20190520T200000
DTSTAMP:20260424T125219
DTSTART:20190520T180000
LOCATION:New York City Bar Association42 West 44th StNew York\, NY10036Unit
 ed States
SEQUENCE:0
SUMMARY:A Celebration Of William Vanden Heuvel
UID:5bf05568-52d1-4942-96f4-698670ddcc9b
URL:https://services.nycbar.org/EventDetail?EventKey=INT052019
END:VEVENT
END:VCALENDAR
