BEGIN:VCALENDAR
VERSION:2.0
METHOD:PUBLISH
PRODID:-//ddaysoftware.com//NONSGML DDay.iCal 1.0//EN
BEGIN:VEVENT
DESCRIPTION:
DTEND:20191003T210000
DTSTAMP:20260423T055642
DTSTART:20191003T190000
LOCATION:42 West 44th StreetNew York\, NY10036
SEQUENCE:0
SUMMARY:Lawyers Connect Fall Reception: Oktoberfest
UID:10d7f7a8-90b5-4883-8695-0472ab35b519
URL:https://services.nycbar.org/EventDetail?EventKey=LCOT100319
END:VEVENT
END:VCALENDAR
