BEGIN:VCALENDAR
VERSION:2.0
METHOD:PUBLISH
PRODID:-//ddaysoftware.com//NONSGML DDay.iCal 1.0//EN
BEGIN:VEVENT
DESCRIPTION:
DTEND:20210617T183000
DTSTAMP:20260420T044932
DTSTART:20210617T180000
LOCATION:42 West 44th StreetNew York\, NY10036
SEQUENCE:0
SUMMARY:The 2021 Art Leonard Award Ceremony
UID:b2afa04e-21bf-46ca-acb1-3116a2d1b43c
URL:https://services.nycbar.org/EventDetail?EventKey=Leonard21
END:VEVENT
END:VCALENDAR
