BEGIN:VCALENDAR
VERSION:2.0
METHOD:PUBLISH
PRODID:-//ddaysoftware.com//NONSGML DDay.iCal 1.0//EN
BEGIN:VEVENT
DESCRIPTION:
DTEND:20201109T134500
DTSTAMP:20260423T172833
DTSTART:20201109T123000
LOCATION:New York City Bar Association42 West 44th StNew York\, NY10036Unit
 ed States
SEQUENCE:0
SUMMARY:Motivation in A Time of Uncertainty
UID:99ca101f-60f3-402f-b937-b273409b2f6e
URL:https://services.nycbar.org/EventDetail?EventKey=MEN110920
END:VEVENT
END:VCALENDAR
