BEGIN:VCALENDAR
VERSION:2.0
METHOD:PUBLISH
PRODID:-//ddaysoftware.com//NONSGML DDay.iCal 1.0//EN
BEGIN:VEVENT
DESCRIPTION:
DTEND:20210624T130000
DTSTAMP:20260422T043000
DTSTART:20210624T120000
SEQUENCE:0
SUMMARY:Doing Business With the Middle East:
UID:3dd4cd99-815c-481e-8539-8bae681d542d
URL:https://services.nycbar.org/EventDetail?EventKey=MENA062421
END:VEVENT
END:VCALENDAR
