BEGIN:VCALENDAR
VERSION:2.0
METHOD:PUBLISH
PRODID:-//ddaysoftware.com//NONSGML DDay.iCal 1.0//EN
BEGIN:VEVENT
DTEND:20170622T210000
DTSTAMP:20260423T051652
DTSTART:20170622T183000
LOCATION:42 West 44th StreetNew York\, NY10036
SEQUENCE:0
SUMMARY:POSTPONED - Women of Color in Local and State Government
UID:f8d11467-484d-4b28-93c1-94ac46733a21
URL:https://services.nycbar.org/EventDetail?EventKey=MIN062217
END:VEVENT
END:VCALENDAR
