BEGIN:VCALENDAR
VERSION:2.0
METHOD:PUBLISH
PRODID:-//ddaysoftware.com//NONSGML DDay.iCal 1.0//EN
BEGIN:VEVENT
DESCRIPTION:
DTEND:20220412T203000
DTSTAMP:20260421T103726
DTSTART:20220412T190000
LOCATION:42 West 44th StreetNew York\, NY10036
SEQUENCE:0
SUMMARY:Mindfulness and Well-Being in Law Book Club
UID:2d0dd055-f563-40cf-b793-935cf1adf28b
URL:https://services.nycbar.org/EventDetail?EventKey=MIND041222
END:VEVENT
END:VCALENDAR
