BEGIN:VCALENDAR
VERSION:2.0
METHOD:PUBLISH
PRODID:-//ddaysoftware.com//NONSGML DDay.iCal 1.0//EN
BEGIN:VEVENT
DESCRIPTION:
DTEND:20210514T135000
DTSTAMP:20260419T120815
DTSTART:20210514T133000
SEQUENCE:0
SUMMARY:Weekly Mindfulness Break
UID:23785795-d8ef-4e86-9175-f6ee07d1ae5b
URL:https://services.nycbar.org/EventDetail?EventKey=MIND051421
END:VEVENT
END:VCALENDAR
