BEGIN:VCALENDAR
VERSION:2.0
METHOD:PUBLISH
PRODID:-//ddaysoftware.com//NONSGML DDay.iCal 1.0//EN
BEGIN:VEVENT
DESCRIPTION:
DTEND:20250918T203000
DTSTAMP:20260419T145842
DTSTART:20250918T183000
LOCATION:42 West 44th StreetNew York\, NY10036
SEQUENCE:0
SUMMARY:America's Trial: Torture and the 9/11 Case on Guantanamo Bay
UID:b8a67f67-f4a5-4ad2-8d41-cb8a4565034e
URL:https://services.nycbar.org/EventDetail?EventKey=MVA091825
END:VEVENT
END:VCALENDAR
