BEGIN:VCALENDAR
VERSION:2.0
METHOD:PUBLISH
PRODID:-//ddaysoftware.com//NONSGML DDay.iCal 1.0//EN
BEGIN:VEVENT
DESCRIPTION:
DTEND:20240116T193000
DTSTAMP:20260419T174637
DTSTART:20240116T180000
SEQUENCE:0
SUMMARY:LL.M. Students and Graduates: How to Navigate Your Career
UID:2e1008db-70f8-4483-9763-d41980af757e
URL:https://services.nycbar.org/EventDetail?EventKey=NLI011624
END:VEVENT
END:VCALENDAR
