BEGIN:VCALENDAR
VERSION:2.0
METHOD:PUBLISH
PRODID:-//ddaysoftware.com//NONSGML DDay.iCal 1.0//EN
BEGIN:VEVENT
DESCRIPTION:
DTEND:20200616T140000
DTSTAMP:20260425T082540
DTSTART:20200616T123000
LOCATION:42 West 44th StreetNew York\, NY10036
SEQUENCE:0
SUMMARY:New Attorneys Thriving: Facing the Uncertainty of the New No
UID:2452f104-3557-4a53-b5fd-b84be61a6633
URL:https://services.nycbar.org/EventDetail?EventKey=NLI061620
END:VEVENT
END:VCALENDAR
