BEGIN:VCALENDAR
VERSION:2.0
METHOD:PUBLISH
PRODID:-//ddaysoftware.com//NONSGML DDay.iCal 1.0//EN
BEGIN:VEVENT
DESCRIPTION:
DTEND:20221004T140000
DTSTAMP:20260425T134903
DTSTART:20221004T123000
SEQUENCE:0
SUMMARY:LL.M. Graduates in the New Normal: How to Navigate Your Care
UID:9f511ce5-fe26-4e72-9338-2df3318d1059
URL:https://services.nycbar.org/EventDetail?EventKey=NLI100422
END:VEVENT
END:VCALENDAR
