BEGIN:VCALENDAR
VERSION:2.0
METHOD:PUBLISH
PRODID:-//ddaysoftware.com//NONSGML DDay.iCal 1.0//EN
BEGIN:VEVENT
DESCRIPTION:
DTEND:20220328T210000
DTSTAMP:20260421T115551
DTSTART:20220328T180000
SEQUENCE:0
SUMMARY:Criminal Law 101 - Defense Practice in NYC
UID:44f8094d-a00b-46f1-98af-4e6ae60b0220
URL:https://services.nycbar.org/EventDetail?EventKey=OND030722
END:VEVENT
END:VCALENDAR
