BEGIN:VCALENDAR
VERSION:2.0
METHOD:PUBLISH
PRODID:-//ddaysoftware.com//NONSGML DDay.iCal 1.0//EN
BEGIN:VEVENT
DESCRIPTION:
DTEND:20220315T133000
DTSTAMP:20260421T115439
DTSTART:20220315T120000
SEQUENCE:0
SUMMARY:Legal Assistance for Environmental Disaster Recovery
UID:6f63dff5-0841-494a-9f87-5e448df4ec2b
URL:https://services.nycbar.org/EventDetail?EventKey=OND031522
END:VEVENT
END:VCALENDAR
