BEGIN:VCALENDAR
VERSION:2.0
METHOD:PUBLISH
PRODID:-//ddaysoftware.com//NONSGML DDay.iCal 1.0//EN
BEGIN:VEVENT
DESCRIPTION:
DTEND:20220321T150000
DTSTAMP:20260421T115714
DTSTART:20220321T100000
LOCATION:New York City Bar42 West 44th StNew York\, NY10036
SEQUENCE:0
SUMMARY:Emerging Trends in Regulatory Actions
UID:e80dd3af-dce8-48c4-82cd-f8285b0bafa2
URL:https://services.nycbar.org/EventDetail?EventKey=OND032122
END:VEVENT
END:VCALENDAR
