BEGIN:VCALENDAR
VERSION:2.0
METHOD:PUBLISH
PRODID:-//ddaysoftware.com//NONSGML DDay.iCal 1.0//EN
BEGIN:VEVENT
DESCRIPTION:
DTEND:20220329T140000
DTSTAMP:20260421T115845
DTSTART:20220329T120000
SEQUENCE:0
SUMMARY:Not for Big Law Only- Cyber Security for Small Law
UID:e410a326-5e10-41e0-b58b-7560e753b686
URL:https://services.nycbar.org/EventDetail?EventKey=OND032922
END:VEVENT
END:VCALENDAR
