BEGIN:VCALENDAR
VERSION:2.0
METHOD:PUBLISH
PRODID:-//ddaysoftware.com//NONSGML DDay.iCal 1.0//EN
BEGIN:VEVENT
DESCRIPTION:
DTEND:20220404T141500
DTSTAMP:20260421T115942
DTSTART:20220404T120000
SEQUENCE:0
SUMMARY:Hot Topics Affecting Cooperatives & Condominiums 2022
UID:1c9c1d22-85ff-41de-8c64-5762556fc274
URL:https://services.nycbar.org/EventDetail?EventKey=OND040422
END:VEVENT
END:VCALENDAR
