BEGIN:VCALENDAR
VERSION:2.0
METHOD:PUBLISH
PRODID:-//ddaysoftware.com//NONSGML DDay.iCal 1.0//EN
BEGIN:VEVENT
DTEND:20150728T210000
DTSTAMP:20260424T013617
DTSTART:20150728T180000
LOCATION:New York City Bar42 West 44th StNew York\, NY10036
SEQUENCE:0
SUMMARY:Representing a Buyer or Seller of an Ongoing Business
UID:42c6ed56-cd0f-441b-8c66-75ef2398255f
URL:https://services.nycbar.org/EventDetail?EventKey=ONDBSB0715
END:VEVENT
END:VCALENDAR
