BEGIN:VCALENDAR
VERSION:2.0
METHOD:PUBLISH
PRODID:-//ddaysoftware.com//NONSGML DDay.iCal 1.0//EN
BEGIN:VEVENT
DTEND:20150729T113000
DTSTAMP:20260424T013353
DTSTART:20150729T090000
LOCATION:New York City Bar42 West 44th StNew York\, NY10036
SEQUENCE:0
SUMMARY:IPad for Transactional Attorneys (Advanced)
UID:72fa059b-4f2d-4ab2-ab38-07adf8e17dd6
URL:https://services.nycbar.org/EventDetail?EventKey=ONDPAD0715
END:VEVENT
END:VCALENDAR
