BEGIN:VCALENDAR
VERSION:2.0
METHOD:PUBLISH
PRODID:-//ddaysoftware.com//NONSGML DDay.iCal 1.0//EN
BEGIN:VEVENT
DESCRIPTION:
DTEND:20200617T131500
DTSTAMP:20260424T230840
DTSTART:20200317T120000
LOCATION:42 West 44th StreetNew York\, NY10036
SEQUENCE:0
SUMMARY:Small Law Firm Luncheon
UID:21fe3081-3a5f-44a9-a626-e89755bfeabf
URL:https://services.nycbar.org/EventDetail?EventKey=SLF032620
END:VEVENT
END:VCALENDAR
