BEGIN:VCALENDAR
VERSION:2.0
METHOD:PUBLISH
PRODID:-//ddaysoftware.com//NONSGML DDay.iCal 1.0//EN
BEGIN:VEVENT
DESCRIPTION:
DTEND:20200416T150000
DTSTAMP:20260420T153759
DTSTART:20200416T140000
LOCATION:42 West 44th StreetNew York\, NY10036
SEQUENCE:0
SUMMARY:Weekly Chat • Stay Connected With Your Peers and Us!
UID:a39e2503-705a-40f4-828b-1647843a0b9c
URL:https://services.nycbar.org/EventDetail?EventKey=SLF041620
END:VEVENT
END:VCALENDAR
